BEGIN:VCALENDAR
VERSION:2.0
PRODID:-//Christ Church - ECPv6.15.20//NONSGML v1.0//EN
CALSCALE:GREGORIAN
METHOD:PUBLISH
X-ORIGINAL-URL:https://christepisc.org
X-WR-CALDESC:Events for Christ Church
REFRESH-INTERVAL;VALUE=DURATION:PT1H
X-Robots-Tag:noindex
X-PUBLISHED-TTL:PT1H
BEGIN:VTIMEZONE
TZID:America/Chicago
BEGIN:DAYLIGHT
TZOFFSETFROM:-0600
TZOFFSETTO:-0500
TZNAME:CDT
DTSTART:20170312T080000
END:DAYLIGHT
BEGIN:STANDARD
TZOFFSETFROM:-0500
TZOFFSETTO:-0600
TZNAME:CST
DTSTART:20171105T070000
END:STANDARD
BEGIN:DAYLIGHT
TZOFFSETFROM:-0600
TZOFFSETTO:-0500
TZNAME:CDT
DTSTART:20180311T080000
END:DAYLIGHT
BEGIN:STANDARD
TZOFFSETFROM:-0500
TZOFFSETTO:-0600
TZNAME:CST
DTSTART:20181104T070000
END:STANDARD
BEGIN:DAYLIGHT
TZOFFSETFROM:-0600
TZOFFSETTO:-0500
TZNAME:CDT
DTSTART:20190310T080000
END:DAYLIGHT
BEGIN:STANDARD
TZOFFSETFROM:-0500
TZOFFSETTO:-0600
TZNAME:CST
DTSTART:20191103T070000
END:STANDARD
END:VTIMEZONE
BEGIN:VEVENT
DTSTART;TZID=America/Chicago:20180909T080000
DTEND;TZID=America/Chicago:20180916T170000
DTSTAMP:20260420T052502
CREATED:20180816T203619Z
LAST-MODIFIED:20180912T135411Z
UID:7141-1536480000-1537117200@christepisc.org
SUMMARY:Sunday School Registration
DESCRIPTION:  \nSunday School registration will be occurring in the child care area on Sunday September 9th and Sunday\, September 16th between the 8:00 am and 10:15 am services. Gifts and treats will be given out when you register! \nCall or email Anne in the office if you need more information!   523-1871 \nchristchurch1@sbcglobal.net \n 
URL:https://christepisc.org/event/sunday-school-registration-2/
CATEGORIES:Parish News,Sunday School,Youth
ATTACH;FMTTYPE=image/jpeg:https://christepisc.org/wp-content/uploads/2018/08/Sunday-School-Registration.webp
END:VEVENT
END:VCALENDAR